
BEGIN:VCALENDAR
VERSION:2.0
PRODID:-//wp-events-plugin.com//7.2.3.1//EN
TZID:Europe/Paris
X-WR-TIMEZONE:Europe/Paris
BEGIN:VEVENT
UID:485@citesjardins-idf.fr
DTSTART;TZID=Europe/Paris;VALUE=DATE:20240522
DTEND;TZID=Europe/Paris;VALUE=DATE:20240523
DTSTAMP:20240226T110958Z
URL:https://www.citesjardins-idf.fr/events/voyage-detude-dans-le-bassin-mi
 nier/
SUMMARY:Voyage d'étude dans le Bassin Minier
DESCRIPTION:Ne manquez pas notre prochain événement : un voyage d'études
  passionnant orchestré par l'Association régionale des cités-jardins d'
 Île-de-France en collaboration avec le Bassin Minier. Plongez dans une ex
 ploration fascinante avec au programme la découverte immersive de la cit
 é des électriciens\, une visite captivante de la cité Bruno à Dourges\
 , ainsi qu'une découverte enrichissante des cités-jardins de Raismes. Un
 e opportunité unique de découvrir l'histoire et l'architecture remarquab
 le de ces lieux emblématiques.\n\nConditions : Afin de pouvoir participer
  à ce voyage d'étude\, il est nécessaire d'adhérer à l'Association r
 égionale des cités-jardins d'Île-de-France.
ATTACH;FMTTYPE=image/jpeg:https://www.citesjardins-idf.fr/wp-content/uploa
 ds/2024/02/Chaine_terrils_bruaysis_lensois_vignette©Jean_Michel_Andre-Mis
 sion_Bassin_Minier.jpg
CATEGORIES:Visites,Voyage d'études
LOCATION:Cité des électriciens\, Rue Franklin\, Bruay-la-Buissière\, 627
 00\, France
X-APPLE-STRUCTURED-LOCATION;VALUE=URI;X-ADDRESS=Rue Franklin\, Bruay-la-Bui
 ssière\, 62700\, France;X-APPLE-RADIUS=100;X-TITLE=Cité des électricien
 s:geo:0,0
END:VEVENT
BEGIN:VTIMEZONE
TZID:Europe/Paris
X-LIC-LOCATION:Europe/Paris
BEGIN:DAYLIGHT
DTSTART:20240331T030000
TZOFFSETFROM:+0100
TZOFFSETTO:+0200
TZNAME:CEST
END:DAYLIGHT
END:VTIMEZONE
END:VCALENDAR