
BEGIN:VCALENDAR
VERSION:2.0
PRODID:-//wp-events-plugin.com//7.2.3.1//EN
TZID:Europe/Paris
X-WR-TIMEZONE:Europe/Paris
BEGIN:VEVENT
UID:488@citesjardins-idf.fr
DTSTART;TZID=Europe/Paris:20240228T150000
DTEND;TZID=Europe/Paris:20240331T173000
DTSTAMP:20240226T113259Z
URL:https://www.citesjardins-idf.fr/events/visites-guidees-petites-et-gran
 des-histoires-de-la-cite/
SUMMARY:Visites guidées - Petites et grandes histoires de la cité...
DESCRIPTION:Chaque mercredi et dimanche\, plongez dans l'univers fascinant 
 de la Cité des Électriciens lors de visites guidées. Explorez la vie au
  cœur d'une cité minière et découvrez une réalité bien loin des clic
 hés habituels. En parcourant le coron\, admirez son architecture singuli
 ère et découvrez ses jardins\, ses clapiers et même son poulailler... P
 endant les vacances scolaires (zone B)\, une visite supplémentaire est pr
 oposée les vendredis à 15h laissant place à une visite théâtralisée 
 pour une expérience encore plus immersive !\n\n&gt\;&gt\;&gt\; En savoir 
 plus.
ATTACH;FMTTYPE=image/jpeg:https://www.citesjardins-idf.fr/wp-content/uploa
 ds/2024/02/65d4b4a768fabcee0283c7dd.png
CATEGORIES:Animations / Jeune public,Visites
LOCATION:Cité des électriciens\, Rue Franklin\, Bruay-la-Buissière\, 627
 00\, France
X-APPLE-STRUCTURED-LOCATION;VALUE=URI;X-ADDRESS=Rue Franklin\, Bruay-la-Bui
 ssière\, 62700\, France;X-APPLE-RADIUS=100;X-TITLE=Cité des électricien
 s:geo:0,0
END:VEVENT
BEGIN:VTIMEZONE
TZID:Europe/Paris
X-LIC-LOCATION:Europe/Paris
BEGIN:STANDARD
DTSTART:20231029T020000
TZOFFSETFROM:+0200
TZOFFSETTO:+0100
TZNAME:CET
END:STANDARD
BEGIN:DAYLIGHT
DTSTART:20240331T030000
TZOFFSETFROM:+0100
TZOFFSETTO:+0200
TZNAME:CEST
END:DAYLIGHT
END:VTIMEZONE
END:VCALENDAR