
BEGIN:VCALENDAR
VERSION:2.0
PRODID:-//wp-events-plugin.com//7.2.3.1//EN
TZID:Europe/Paris
X-WR-TIMEZONE:Europe/Paris
BEGIN:VEVENT
UID:382@citesjardins-idf.fr
DTSTART;TZID=Europe/Paris:20230528T150000
DTEND;TZID=Europe/Paris:20230528T170000
DTSTAMP:20230512T080959Z
URL:https://www.citesjardins-idf.fr/events/visite-guidee-temoignages-de-la
 -cite-jardins-dorgemont-a-argenteuil/
SUMMARY:ANNULÉ - Témoignages de la cité-jardins d'Orgemont à Argenteuil
DESCRIPTION:La visite de la cité-jardin d'Orgemont\, au départ de l'égli
 se Saint-Ferdinand\, durera environ 2h. Outre les informations historiques
  et architecturales fournies par le guide\, les visiteurs pourront profite
 r des interventions ponctuelles de l’ethnologue Béatrice Cabedoce qui p
 artagera la mémoire des habitants qu'elle a compilé durant ses recherche
 s.\n\nCette visite vous est proposée par la Ville d'Argenteuil à l’occ
 asion du Printemps des cités-jardins\, évènement porté par l’Associa
 tion régionale des cités-jardins d’Île-de-France. Cette 12ème éditi
 on se déroulera du 27 mai au 11 juin 2023.
ATTACH;FMTTYPE=image/jpeg:https://www.citesjardins-idf.fr/wp-content/uploa
 ds/2023/03/Orgemont.png
CATEGORIES:Visites
LOCATION:Cité-jardins d'Orgemont\, Place Saint-Ferdinand\, ARGENTEUIL\, 95
 100\, France
X-APPLE-STRUCTURED-LOCATION;VALUE=URI;X-ADDRESS=Place Saint-Ferdinand\, ARG
 ENTEUIL\, 95100\, France;X-APPLE-RADIUS=100;X-TITLE=Cité-jardins d'Orgemo
 nt:geo:0,0
END:VEVENT
BEGIN:VTIMEZONE
TZID:Europe/Paris
X-LIC-LOCATION:Europe/Paris
BEGIN:DAYLIGHT
DTSTART:20230326T030000
TZOFFSETFROM:+0100
TZOFFSETTO:+0200
TZNAME:CEST
END:DAYLIGHT
END:VTIMEZONE
END:VCALENDAR