
BEGIN:VCALENDAR
VERSION:2.0
PRODID:-//wp-events-plugin.com//7.2.3.1//EN
TZID:Europe/Paris
X-WR-TIMEZONE:Europe/Paris
BEGIN:VEVENT
UID:405@citesjardins-idf.fr
DTSTART;TZID=Europe/Paris:20230531T140000
DTEND;TZID=Europe/Paris:20230531T160000
DTSTAMP:20230428T133433Z
URL:https://www.citesjardins-idf.fr/events/visite-guidee-cite-jardin-de-ch
 ampigny-sur-marne/
SUMMARY:Cité-jardin de Champigny-sur-Marne
DESCRIPTION:Cette balade patrimoniale vous emmène à la découverte de la 
 cité-jardin de Champigny-sur-Marne. À travers les clos\, les venelles\, 
 les courettes et les jardins\, venez profiter de cette balade bucolique\, 
 au sein de ce petit joyau architectural\, labellisé « Patrimoine d’int
 érêt régional » en 2018.\n\nCette visite vous est proposée à l’occ
 asion du Printemps des cités-jardins\, évènement porté par l’Associa
 tion régionale des cités-jardins d’Île-de-France. Cette 12ème éditi
 on se déroulera du 27 mai au 11 juin 2023\, portant sur la thématique 
 “Les cités-jardins au naturel”.
ATTACH;FMTTYPE=image/jpeg:https://www.citesjardins-idf.fr/wp-content/uploa
 ds/2019/04/Champigny-ARCJ-e1650015140999.jpg
CATEGORIES:Visites
LOCATION:Place Louis-Loucheur\, .\, Champigny-sur-Marne\, 94500\, France
X-APPLE-STRUCTURED-LOCATION;VALUE=URI;X-ADDRESS=.\, Champigny-sur-Marne\, 9
 4500\, France;X-APPLE-RADIUS=100;X-TITLE=Place Louis-Loucheur:geo:0,0
END:VEVENT
BEGIN:VTIMEZONE
TZID:Europe/Paris
X-LIC-LOCATION:Europe/Paris
BEGIN:DAYLIGHT
DTSTART:20230326T030000
TZOFFSETFROM:+0100
TZOFFSETTO:+0200
TZNAME:CEST
END:DAYLIGHT
END:VTIMEZONE
END:VCALENDAR