
BEGIN:VCALENDAR
VERSION:2.0
PRODID:-//wp-events-plugin.com//7.2.3.1//EN
TZID:Europe/Paris
X-WR-TIMEZONE:Europe/Paris
BEGIN:VEVENT
UID:520@citesjardins-idf.fr
DTSTART;TZID=Europe/Paris:20240519T153000
DTEND;TZID=Europe/Paris:20240519T163000
DTSTAMP:20240514T085051Z
URL:https://www.citesjardins-idf.fr/events/visite-de-lexposition-les-cites
 -jardins-didf-une-certaine-idee-du-bonheur-printemps-des-cites-jardins-202
 4/
SUMMARY:Les cités-jardins d'IDF : une certaine idée du bonheur | Printemp
 s des cités-jardins 2024
DESCRIPTION:La visite guidée de l’exposition temporaire vous permettra d
 e revenir sur l’histoire singulière des cités-jardins d’Île-de-Fran
 ce. Ainsi\, les cités-jardins construites par les Offices publics d’hab
 itation à bon marché de la Seine et de la Seine-et-Oise s’inscrivent d
 ans un plan d’aménagement global de l’Île-de-France. N’hésitez pa
 s à venir un peu en avance pour profiter du départ du carnaval stanois\,
  place Marcel-Pointet !
ATTACH;FMTTYPE=image/jpeg:https://www.citesjardins-idf.fr/wp-content/uploa
 ds/2020/04/IMG_20190717_124731.jpg
CATEGORIES:Expositions,Visites
LOCATION:Place Marcel-Pointet\, Place Marcel Pointet\, Stains\, France
X-APPLE-STRUCTURED-LOCATION;VALUE=URI;X-ADDRESS=Place Marcel Pointet\, Stai
 ns\, France;X-APPLE-RADIUS=100;X-TITLE=Place Marcel-Pointet:geo:0,0
END:VEVENT
BEGIN:VTIMEZONE
TZID:Europe/Paris
X-LIC-LOCATION:Europe/Paris
BEGIN:DAYLIGHT
DTSTART:20240331T030000
TZOFFSETFROM:+0100
TZOFFSETTO:+0200
TZNAME:CEST
END:DAYLIGHT
END:VTIMEZONE
END:VCALENDAR