
BEGIN:VCALENDAR
VERSION:2.0
PRODID:-//wp-events-plugin.com//7.2.3.1//EN
TZID:Europe/Paris
X-WR-TIMEZONE:Europe/Paris
BEGIN:VEVENT
UID:22@citesjardins-idf.fr
DTSTART;TZID=Europe/Paris;VALUE=DATE:20190622
DTEND;TZID=Europe/Paris;VALUE=DATE:20190623
DTSTAMP:20190612T082223Z
URL:https://www.citesjardins-idf.fr/events/stains-en-fete/
SUMMARY:Stains en fête!
DESCRIPTION:C'est la fête de la ville de Stains! Celle-ci se déroulera s
 ur la place Marcel Pointet\, l'avenue Bégué et dans les squares. Venez r
 etrouver de nombreuses animations pour petits et grands.\n\nUn concert de 
 Tamayo &amp\; Paris Latin Orchestra est prévu sur la place Marcel Point
 et à 19h.
CATEGORIES:Evenements publics
LOCATION:Place Marcel Pointet\, place Marcel Pointet\, Stains\, France
X-APPLE-STRUCTURED-LOCATION;VALUE=URI;X-ADDRESS=place Marcel Pointet\, Stai
 ns\, France;X-APPLE-RADIUS=100;X-TITLE=Place Marcel Pointet:geo:0,0
END:VEVENT
BEGIN:VTIMEZONE
TZID:Europe/Paris
X-LIC-LOCATION:Europe/Paris
BEGIN:DAYLIGHT
DTSTART:20190331T030000
TZOFFSETFROM:+0100
TZOFFSETTO:+0200
TZNAME:CEST
END:DAYLIGHT
END:VTIMEZONE
END:VCALENDAR