
BEGIN:VCALENDAR
VERSION:2.0
PRODID:-//wp-events-plugin.com//7.2.3.1//EN
TZID:Europe/Paris
X-WR-TIMEZONE:Europe/Paris
BEGIN:VEVENT
UID:155@citesjardins-idf.fr
DTSTART;TZID=Europe/Paris:20210615T140000
DTEND;TZID=Europe/Paris:20210615T170000
DTSTAMP:20210518T125626Z
URL:https://www.citesjardins-idf.fr/events/printemps-des-cites-jardins-vis
 ite-de-la-cite-jardins-et-du-parc-de-la-poudrerie-livry-gargan/
SUMMARY:Printemps des cités-jardins - Visite de la cité-jardins et du par
 c de la Poudrerie (Livry-Gargan)
DESCRIPTION:10ème édition du Printemps des cités-jardins - du 05 au 20 j
 uin 2021\n\nL'Association régionale des cités-jardins d'Île-de-France\,
  en partenariat avec la Ville de Livry-Gargan\, le Conseil Départemental 
 de la Seine-Saint-Denis et Seine-Saint-Denis Habitat\, vous invite à une 
 visite inédite du parc de la Poudrerie et de son ancienne cité-jardin.\n
 \nCette visite groupée du parc\, anciennement manufacture nationale de S
 evran-Livry\, et de sa cité-jardin\, sera menée par Antoine Furio et Ben
 oît Pouvreau\, chargés d'inventaire et historiens au Conseil Départemen
 tal de la Seine-Saint-Denis. Ce sera l'occasion pour vous de découvrir l'
 histoire et le fonctionnement de cette ancienne poudrerie impériale puis 
 nationale construite au XIXe siècle. Vous découvrirez aussi la cité-ja
 rdin de la poudrerie qui servait de logements pour les employés et ouvri
 ers bientôt réhabilitée ainsi que d’autres logements liés à cette h
 istoire.\n\nMardi 15 juin\, 14h. Gratuit\, sur inscription sur Explorepari
 s
ATTACH;FMTTYPE=image/jpeg:https://www.citesjardins-idf.fr/wp-content/uploa
 ds/2020/11/IMG_20201009_162649.jpg
CATEGORIES:Visites
LOCATION:Cité-jardins de la Poudrerie\, 34 avenue de la Poudrerie\, Livry-
 Gargan\, 93190\, France
X-APPLE-STRUCTURED-LOCATION;VALUE=URI;X-ADDRESS=34 avenue de la Poudrerie\,
  Livry-Gargan\, 93190\, France;X-APPLE-RADIUS=100;X-TITLE=Cité-jardins de
  la Poudrerie:geo:0,0
END:VEVENT
BEGIN:VTIMEZONE
TZID:Europe/Paris
X-LIC-LOCATION:Europe/Paris
BEGIN:DAYLIGHT
DTSTART:20210328T030000
TZOFFSETFROM:+0100
TZOFFSETTO:+0200
TZNAME:CEST
END:DAYLIGHT
END:VTIMEZONE
END:VCALENDAR