
BEGIN:VCALENDAR
VERSION:2.0
PRODID:-//wp-events-plugin.com//7.2.3.1//EN
TZID:Europe/Paris
X-WR-TIMEZONE:Europe/Paris
BEGIN:VEVENT
UID:529@citesjardins-idf.fr
DTSTART;TZID=Europe/Paris:20240602T150000
DTEND;TZID=Europe/Paris:20240602T170000
DTSTAMP:20240409T084508Z
URL:https://www.citesjardins-idf.fr/events/les-habitants-racontent-leur-ci
 te-jardin-printemps-des-cites-jardins-2024/
SUMMARY:Les habitants racontent leur cité-jardin | Printemps des cités-ja
 rdins 2024
DESCRIPTION:Entre souvenirs\, anecdotes et faits historiques\, ces habitant
 s vous emmènent à travers la cité-jardin pour vous faire découvrir aut
 rement ce que vous avez l'habitude de voir tous les jours.\n\nIls vous fer
 ont voyager à travers leurs souvenirs et partager leurs récits. Ils vous
  raconteront les lieux de vie et de loisirs\, les modes de vie liés à l'
 activité industrielle\, les pratiques sportives…d'hier et d'aujourd'hui
 .\n\nDe quoi vanter le charme de cette cité parfois ignorée aux yeux de 
 ceux qui ne font souvent que la traverser.
ATTACH;FMTTYPE=image/jpeg:https://www.citesjardins-idf.fr/wp-content/uploa
 ds/2024/03/Kiosque-CJ24.jpeg
CATEGORIES:Parole aux habitants,Randonnées,Visites
LOCATION:Le Trait\, 40 rue Maurice-Hénin\, Le Trait\, 76580\, France
X-APPLE-STRUCTURED-LOCATION;VALUE=URI;X-ADDRESS=40 rue Maurice-Hénin\, Le 
 Trait\, 76580\, France;X-APPLE-RADIUS=100;X-TITLE=Le Trait:geo:0,0
END:VEVENT
BEGIN:VTIMEZONE
TZID:Europe/Paris
X-LIC-LOCATION:Europe/Paris
BEGIN:DAYLIGHT
DTSTART:20240331T030000
TZOFFSETFROM:+0100
TZOFFSETTO:+0200
TZNAME:CEST
END:DAYLIGHT
END:VTIMEZONE
END:VCALENDAR