
BEGIN:VCALENDAR
VERSION:2.0
PRODID:-//wp-events-plugin.com//7.2.3.1//EN
TZID:Europe/Paris
X-WR-TIMEZONE:Europe/Paris
BEGIN:VEVENT
UID:548@citesjardins-idf.fr
DTSTART;TZID=Europe/Paris:20240601T140000
DTEND;TZID=Europe/Paris:20240601T173000
DTSTAMP:20240410T100756Z
URL:https://www.citesjardins-idf.fr/events/la-cite-aux-1000-enfants/
SUMMARY:La cité aux 1000 enfants | Printemps des cités-jardins 2024
DESCRIPTION:La cité Jardin de Ginglin était la cité " aux 1000 enfants "
  dans les années 30\, les enfants jouaient partout y compris dans la rue.
  Alors les habitants guides ont eu l'envie pour cette année 2024 de redon
 ner la rue aux enfants\, des rues libres et sans circulation de véhicules
 . Dans 2 rues et un square ils vont découvrir des jeux anciens en bois\, 
 des jeux géants (de la ludothèque)\, des jeux sur le patrimoine (des arc
 hives municipales)\, des jeux de force breton (association c'hoarioù Ner
 zh)\, des parcours avec des échasses\, des sacs pour faire la course\, de
 s craies pour dessiner des marelles. Ce temps de partage est possible grâ
 ce aux bénévoles\, aux habitants de cette cité\, aux structures du quar
 tier et services de la ville.
ATTACH;FMTTYPE=image/jpeg:https://www.citesjardins-idf.fr/wp-content/uploa
 ds/2023/04/FRANCE_Saint-Brieuc_Credit-Mairie-de-Saint-Brieuc-2-scaled.jpg
CATEGORIES:Evenements publics
LOCATION:Square Sainte-Anne\, Rue Yvette-Le-Quenniec\, avenue Loucheur\, Sa
 int-Brieuc\, 22000\, France
X-APPLE-STRUCTURED-LOCATION;VALUE=URI;X-ADDRESS=Rue Yvette-Le-Quenniec\, av
 enue Loucheur\, Saint-Brieuc\, 22000\, France;X-APPLE-RADIUS=100;X-TITLE=S
 quare Sainte-Anne:geo:0,0
END:VEVENT
BEGIN:VTIMEZONE
TZID:Europe/Paris
X-LIC-LOCATION:Europe/Paris
BEGIN:DAYLIGHT
DTSTART:20240331T030000
TZOFFSETFROM:+0100
TZOFFSETTO:+0200
TZNAME:CEST
END:DAYLIGHT
END:VTIMEZONE
END:VCALENDAR