
BEGIN:VCALENDAR
VERSION:2.0
PRODID:-//wp-events-plugin.com//7.2.3.1//EN
TZID:Europe/Paris
X-WR-TIMEZONE:Europe/Paris
BEGIN:VEVENT
UID:179@citesjardins-idf.fr
DTSTART;TZID=Europe/Paris;VALUE=DATE:20211016
DTEND;TZID=Europe/Paris;VALUE=DATE:20211018
DTSTAMP:20210930T124722Z
URL:https://www.citesjardins-idf.fr/events/journees-nationales-de-larchite
 cture-2021/
SUMMARY:Journées nationales de l'architecture 2021
DESCRIPTION:A l'occasion des Journées nationales de l'architecture\, les 1
 6 et 17 octobre\, retrouvez les initiatives proposées dans les cités-jar
 dins.
ATTACH;FMTTYPE=image/jpeg:https://www.citesjardins-idf.fr/wp-content/uploa
 ds/2021/09/jna-affiche-BD.jpg
CATEGORIES:Visites
END:VEVENT
BEGIN:VTIMEZONE
TZID:Europe/Paris
X-LIC-LOCATION:Europe/Paris
BEGIN:DAYLIGHT
DTSTART:20210328T030000
TZOFFSETFROM:+0100
TZOFFSETTO:+0200
TZNAME:CEST
END:DAYLIGHT
END:VTIMEZONE
END:VCALENDAR