
BEGIN:VCALENDAR
VERSION:2.0
PRODID:-//wp-events-plugin.com//7.2.3.1//EN
TZID:Europe/Paris
X-WR-TIMEZONE:Europe/Paris
BEGIN:VEVENT
UID:389@citesjardins-idf.fr
DTSTART;TZID=Europe/Paris:20230608T091500
DTEND;TZID=Europe/Paris:20230608T113000
DTSTAMP:20230419T144247Z
URL:https://www.citesjardins-idf.fr/events/de-la-cite-jardin-de-la-ville-g
 inglin-a-la-maison-saint-yves/
SUMMARY:De la cité-jardin de la Ville Ginglin à la Maison Saint Yves
DESCRIPTION:Au départ de Cap Couleurs\, cette balade de la cité-jardin de
  la Ville Ginglin sera menée par des « Habitants guides »\, composés
  de résidents actuels et passés sur l'unique cité-jardin visitable de B
 retagne. En leur compagnie\, laissez-vous conter les ressources sociales e
 t historiques de ce quartier\, mêlant histoires personnelles et apports d
 'experts. Des surprises vous attendront au détour de vos balades\, restez
  attentifs...\n\nCet atelier vous est proposée à l’occasion du Printem
 ps des cités-jardins\, évènement porté par l’Association régionale 
 des cités-jardins d’Île-de-France. Cette 12ème édition se déroulera
  du 27 mai au 11 juin 2023\, portant sur la thématique “Des cités-jard
 ins au naturel”.\n\n&nbsp\;
ATTACH;FMTTYPE=image/jpeg:https://www.citesjardins-idf.fr/wp-content/uploa
 ds/2022/04/SAINT-BRIEUC_Balade-Habitant-guide-square-st-anne-avec-les-mais
 ons-de-la-cité-jardin-en-fond-e1650015469763.jpg
CATEGORIES:Parole aux habitants,Visites
LOCATION:Centre social Cap Couleurs\, 1 rue Mathurin Méheut\, Saint-Brieuc
 \, 22000\, France
X-APPLE-STRUCTURED-LOCATION;VALUE=URI;X-ADDRESS=1 rue Mathurin Méheut\, Sa
 int-Brieuc\, 22000\, France;X-APPLE-RADIUS=100;X-TITLE=Centre social Cap C
 ouleurs:geo:0,0
END:VEVENT
BEGIN:VTIMEZONE
TZID:Europe/Paris
X-LIC-LOCATION:Europe/Paris
BEGIN:DAYLIGHT
DTSTART:20230326T030000
TZOFFSETFROM:+0100
TZOFFSETTO:+0200
TZNAME:CEST
END:DAYLIGHT
END:VTIMEZONE
END:VCALENDAR