
BEGIN:VCALENDAR
VERSION:2.0
PRODID:-//wp-events-plugin.com//7.2.3.1//EN
TZID:Europe/Paris
X-WR-TIMEZONE:Europe/Paris
BEGIN:VEVENT
UID:359@citesjardins-idf.fr
DTSTART;TZID=Europe/Paris:20230611T140000
DTEND;TZID=Europe/Paris:20230611T153000
DTSTAMP:20230419T101206Z
URL:https://www.citesjardins-idf.fr/events/cite-jardin-de-gennevilliers-3/
SUMMARY:Cité-jardin de Gennevilliers
DESCRIPTION:Construite entre 1923 et 1934\, la cité-jardins de Gennevillie
 rs est la première réalisation des architectes Jean Hébrard et Félix D
 umail pour l’Office public d’habitations à bon marché du départemen
 t de la Seine.Construite sur 9 hectares de l’ancien parc du duc de Riche
 lieu\, elle marque le passage de la cité d’urgence au modèle social de
  la cité-jardins mélangeant logements individuels et collectifs.Elle com
 prends plus de 570 logements\, complétés par la Maison pour Tous\, une 
 école maternelle\, un dispensaire et des commerces coopératifs.Venez dé
 couvrir cette jolie cité-jardins qui fut un exemple technique et typologi
 que pour des opérations similaires dans toute l’Europe de l’entre-deu
 x-guerres.\n\nCette balade vous est proposée par Hauts-de-Seine Habitat 
 à l’occasion du Printemps des cités-jardins\, évènement porté par l
 ’Association régionale des cités-jardins d’Île-de-France. Cette 12
 ème édition se déroulera du 27 mai au 11 juin 2023\, et portera sur la 
 thématique “Des cités-jardins au naturel”.
ATTACH;FMTTYPE=image/jpeg:https://www.citesjardins-idf.fr/wp-content/uploa
 ds/2023/03/f6a1afc_15963-3dmzv4.9u133.jpg
CATEGORIES:Visites
LOCATION:Collège Louis Pasteur\, 40 rue Jean-Jaurès\, Gennevilliers\, 922
 30\, France
X-APPLE-STRUCTURED-LOCATION;VALUE=URI;X-ADDRESS=40 rue Jean-Jaurès\, Genne
 villiers\, 92230\, France;X-APPLE-RADIUS=100;X-TITLE=Collège Louis Pasteu
 r:geo:0,0
END:VEVENT
BEGIN:VTIMEZONE
TZID:Europe/Paris
X-LIC-LOCATION:Europe/Paris
BEGIN:DAYLIGHT
DTSTART:20230326T030000
TZOFFSETFROM:+0100
TZOFFSETTO:+0200
TZNAME:CEST
END:DAYLIGHT
END:VTIMEZONE
END:VCALENDAR